BEGIN:VCALENDAR
VERSION:2.0
PRODID:-//EPIC Wineries - ECPv6.15.18//NONSGML v1.0//EN
CALSCALE:GREGORIAN
METHOD:PUBLISH
X-ORIGINAL-URL:https://epicwineries.com
X-WR-CALDESC:Events for EPIC Wineries
REFRESH-INTERVAL;VALUE=DURATION:PT1H
X-Robots-Tag:noindex
X-PUBLISHED-TTL:PT1H
BEGIN:VTIMEZONE
TZID:America/Detroit
BEGIN:DAYLIGHT
TZOFFSETFROM:-0500
TZOFFSETTO:-0400
TZNAME:EDT
DTSTART:20230312T070000
END:DAYLIGHT
BEGIN:STANDARD
TZOFFSETFROM:-0400
TZOFFSETTO:-0500
TZNAME:EST
DTSTART:20231105T060000
END:STANDARD
BEGIN:DAYLIGHT
TZOFFSETFROM:-0500
TZOFFSETTO:-0400
TZNAME:EDT
DTSTART:20240310T070000
END:DAYLIGHT
BEGIN:STANDARD
TZOFFSETFROM:-0400
TZOFFSETTO:-0500
TZNAME:EST
DTSTART:20241103T060000
END:STANDARD
BEGIN:DAYLIGHT
TZOFFSETFROM:-0500
TZOFFSETTO:-0400
TZNAME:EDT
DTSTART:20250309T070000
END:DAYLIGHT
BEGIN:STANDARD
TZOFFSETFROM:-0400
TZOFFSETTO:-0500
TZNAME:EST
DTSTART:20251102T060000
END:STANDARD
END:VTIMEZONE
BEGIN:VEVENT
DTSTART;TZID=America/Detroit:20240726T170000
DTEND;TZID=America/Detroit:20240726T210000
DTSTAMP:20260424T103443
CREATED:20240711T163136Z
LAST-MODIFIED:20240711T163136Z
UID:10000116-1722013200-1722027600@epicwineries.com
SUMMARY:Sunset Soirée
DESCRIPTION:You’re invited to a Sunset Soirée at Vivace Estate Winery. $20/per person and your ticket includes 1 drink ticket\, 1 food ticket\, all activities and live music!
URL:https://epicwineries.com/event/sunset-soiree/
LOCATION:Vivace Estate inery\, 5141 Conession Rd. 5\, Amherstburg\, Ontario\, N9V 2Y9\, Canada
CATEGORIES:Vivace Estate Winery,Winery Events
ATTACH;FMTTYPE=image/png:https://epicwineries.com/wp-content/uploads/2024/07/vivace-event.png
END:VEVENT
END:VCALENDAR