BEGIN:VCALENDAR
VERSION:2.0
PRODID:-//EPIC Wineries - ECPv6.15.18//NONSGML v1.0//EN
CALSCALE:GREGORIAN
METHOD:PUBLISH
X-ORIGINAL-URL:https://epicwineries.com
X-WR-CALDESC:Events for EPIC Wineries
REFRESH-INTERVAL;VALUE=DURATION:PT1H
X-Robots-Tag:noindex
X-PUBLISHED-TTL:PT1H
BEGIN:VTIMEZONE
TZID:America/Detroit
BEGIN:DAYLIGHT
TZOFFSETFROM:-0500
TZOFFSETTO:-0400
TZNAME:EDT
DTSTART:20220313T070000
END:DAYLIGHT
BEGIN:STANDARD
TZOFFSETFROM:-0400
TZOFFSETTO:-0500
TZNAME:EST
DTSTART:20221106T060000
END:STANDARD
BEGIN:DAYLIGHT
TZOFFSETFROM:-0500
TZOFFSETTO:-0400
TZNAME:EDT
DTSTART:20230312T070000
END:DAYLIGHT
BEGIN:STANDARD
TZOFFSETFROM:-0400
TZOFFSETTO:-0500
TZNAME:EST
DTSTART:20231105T060000
END:STANDARD
BEGIN:DAYLIGHT
TZOFFSETFROM:-0500
TZOFFSETTO:-0400
TZNAME:EDT
DTSTART:20240310T070000
END:DAYLIGHT
BEGIN:STANDARD
TZOFFSETFROM:-0400
TZOFFSETTO:-0500
TZNAME:EST
DTSTART:20241103T060000
END:STANDARD
BEGIN:DAYLIGHT
TZOFFSETFROM:-0500
TZOFFSETTO:-0400
TZNAME:EDT
DTSTART:20250309T070000
END:DAYLIGHT
BEGIN:STANDARD
TZOFFSETFROM:-0400
TZOFFSETTO:-0500
TZNAME:EST
DTSTART:20251102T060000
END:STANDARD
BEGIN:DAYLIGHT
TZOFFSETFROM:-0500
TZOFFSETTO:-0400
TZNAME:EDT
DTSTART:20260308T070000
END:DAYLIGHT
BEGIN:STANDARD
TZOFFSETFROM:-0400
TZOFFSETTO:-0500
TZNAME:EST
DTSTART:20261101T060000
END:STANDARD
END:VTIMEZONE
BEGIN:VEVENT
DTSTART;TZID=America/Detroit:20250329T150000
DTEND;TZID=America/Detroit:20250329T170000
DTSTAMP:20260422T063316
CREATED:20250227T175840Z
LAST-MODIFIED:20250227T175840Z
UID:10000129-1743260400-1743267600@epicwineries.com
SUMMARY:Past Life Group Readings with Medium Bella Silva Cacilhas
DESCRIPTION:Date: March 29\, 2025\nTime: 3pm\nLocation: Cooper’s Hawk Vineyards and The Vines Restaurant 1425 Iler Rd. Harrow Ontario. \nGet ready to unlock hidden memories and gain insights into your present life. Don’t miss this opportunity to connect with like-minded individuals and explore the depths of your subconscious mind.
URL:https://epicwineries.com/event/past-life-group-readings-with-medium-bella-silva-cacilhas/
LOCATION:Cooper’s Hawk Vineyards\, 1425 Iler Rd\, Harrow\, Ontario\, N0R 1G0\, Canada
CATEGORIES:Cooper's Hawk Vineyards,Winery Events
ATTACH;FMTTYPE=image/jpeg:https://epicwineries.com/wp-content/uploads/2025/02/coopershawk-blob_01_16_53_8109.jpg
END:VEVENT
BEGIN:VEVENT
DTSTART;TZID=America/Detroit:20250215T130000
DTEND;TZID=America/Detroit:20250215T143000
DTSTAMP:20260422T063316
CREATED:20250114T173724Z
LAST-MODIFIED:20250114T173724Z
UID:10000125-1739624400-1739629800@epicwineries.com
SUMMARY:Valentine’s Tasting Table with Barb Dejonge – A Sweet Pairing!
DESCRIPTION:Join Master Taster Barb Dejonge\,February 15th\, at1PM for an indulgent experience featuring 4 chocolate treats perfectly paired with 4 awesome CHV wines!.
URL:https://epicwineries.com/event/valentines-tasting-table-with-barb-dejonge-a-sweet-pairing/
LOCATION:Cooper’s Hawk Vineyards\, 1425 Iler Rd\, Harrow\, Ontario\, N0R 1G0\, Canada
CATEGORIES:Cooper's Hawk Vineyards,Winery Events
ATTACH;FMTTYPE=image/avif:https://epicwineries.com/wp-content/uploads/2025/01/coopershawk-blob_05_20_43_3995.avif
END:VEVENT
BEGIN:VEVENT
DTSTART;TZID=America/Detroit:20250201T120000
DTEND;TZID=America/Detroit:20250201T160000
DTSTAMP:20260422T063316
CREATED:20250117T154912Z
LAST-MODIFIED:20250117T181923Z
UID:10000126-1738411200-1738425600@epicwineries.com
SUMMARY:Stems & Spoons at CHV
DESCRIPTION:Warm your winter with Stems and Spoons\, an exclusive soup and wine pairing event at CHV. Indulge in a delightful pairing of our award-winning wines with your choice of two delicious soups. \nEvent Details\n📅 Date: Thursday\, February 1st\n⏰ Time: 12:00 PM – 4:00 PM\n💰 Tickets: $25 + tax per person\n📍 Location:1425 Iler Rd. \nGet Tickets
URL:https://epicwineries.com/event/stems-spoons-at-chv/
LOCATION:Cooper’s Hawk Vineyards\, 1425 Iler Rd\, Harrow\, Ontario\, N0R 1G0\, Canada
CATEGORIES:Cooper's Hawk Vineyards,Winery Events
ATTACH;FMTTYPE=image/jpeg:https://epicwineries.com/wp-content/uploads/2025/01/Stems-and-Spoons-Staples-Instagram-Post-25.jpg
END:VEVENT
BEGIN:VEVENT
DTSTART;TZID=America/Detroit:20241214T120000
DTEND;TZID=America/Detroit:20241214T130000
DTSTAMP:20260422T063316
CREATED:20241111T184806Z
LAST-MODIFIED:20241111T184806Z
UID:10000124-1734177600-1734181200@epicwineries.com
SUMMARY:What's Poppin' At CHV?
DESCRIPTION:We’re thrilled to announce an exciting new partnership with What’s Poppin’ Popcorn Factory to bring you a unique tasting experience: popcorn and wine pairings that are as fun as they are flavorful! Our Master Taster\, Barb Dejonge at CHV has curated perfect pairings between our handcrafted wines and What’s Poppin’s gourmet popcorn flavors for a surprising twist on traditional tastings. \nWhy Pair Wine with Popcorn? \nWine and popcorn might just be the perfect match! The diverse flavors of popcorn—whether savory\, sweet\, or spicy—highlight the notes in our wines\, creating delightful contrasts and combinations you’ll love to explore. \nPurchase your tickets and experience What’s Poppin’ with Wine. Discover a pairing you never knew you needed!
URL:https://epicwineries.com/event/whats-poppin-at-chv/
LOCATION:Cooper’s Hawk Vineyards\, 1425 Iler Rd\, Harrow\, Ontario\, N0R 1G0\, Canada
CATEGORIES:Cooper's Hawk Vineyards,Winery Events
ATTACH;FMTTYPE=image/jpeg:https://epicwineries.com/wp-content/uploads/2024/11/Whats-Poppin-Poster.jpg
END:VEVENT
BEGIN:VEVENT
DTSTART;TZID=America/Detroit:20241130T180000
DTEND;TZID=America/Detroit:20241130T220000
DTSTAMP:20260422T063316
CREATED:20240927T175557Z
LAST-MODIFIED:20240927T175640Z
UID:10000118-1732989600-1733004000@epicwineries.com
SUMMARY:The King's Dinner: An Elvis Tribute
DESCRIPTION:Join us at Cooper’s Hawk Vineyards on November 30th for a night that will have you dancing in your blue suede shoes! We’re thrilled to present The King’s Dinner: An Elvis Tribute featuring the incredible James Gibb with the Silvertones. \nEvent Schedule:\n6:00 PM – Cocktails\n6:45 PM – Dinner: Indulge in a delicious dinner prepared by our talented culinary team.\n8:00 PM – Show: Get ready for an unforgettable performance as James Gibb takes the stage\, bringing the spirit of Elvis to life with the soulful sounds of the Silvertones. \nTickets: $85 per person (plus tax). \nThis is an event you won’t want to miss! Come celebrate the legacy of Elvis Presley in the elegant setting of CHV. With great food\, fantastic music\, and an ambiance that’s second to none\, this will be an evening to remember. \nTickets: https://coopershawkvineyards.com/posts/9303/merchandise
URL:https://epicwineries.com/event/the-kings-dinner-an-elvis-tribute/
LOCATION:Cooper’s Hawk Vineyards\, 1425 Iler Rd\, Harrow\, Ontario\, N0R 1G0\, Canada
CATEGORIES:Cooper's Hawk Vineyards,Winery Events
ATTACH;FMTTYPE=image/jpeg:https://epicwineries.com/wp-content/uploads/2024/09/the-kings-dinner.jpg
END:VEVENT
BEGIN:VEVENT
DTSTART;TZID=America/Detroit:20241027T110000
DTEND;TZID=America/Detroit:20241027T160000
DTSTAMP:20260422T063316
CREATED:20241001T164637Z
LAST-MODIFIED:20241001T164637Z
UID:10000120-1730026800-1730044800@epicwineries.com
SUMMARY:Halloween Hallows at Cooper's Hawk Vineyards
DESCRIPTION:Join us for a spooktacular day of family fun at our annual Halloween Hallows event on Sunday\, October 27th\, from 11 AM to 4 PM! This year\, Cooper’s Hawk Vineyards is proud to partner with Big Brothers Big Sisters of Windsor-Essex for an event filled with excitement for the little ones. \nEntry:\nYour admission is simple—bring a gently used coat donation and help support families in need. \nWhat to Expect: \n🎃 Crafts for the Little Ghouls \n🎃 Wagon Rides through the vineyard \n🎃 Hot Chocolate to warm up the spirits \n🎃 Scavenger Hunt for hidden treasures \n🎃 Fun Food & Drinks available for purchase \n🎃 Surprises Around Every Corner! \nAnd don’t forget to wear your costume! It’s a day of magic\, adventure\, and community. \nBring the entire family and celebrate Halloween with us at CHV!  \nWe can’t wait to see all the little ghouls and goblins!👻
URL:https://epicwineries.com/event/halloween-hallows-at-coopers-hawk-vineyards/
LOCATION:Cooper’s Hawk Vineyards\, 1425 Iler Rd\, Harrow\, Ontario\, N0R 1G0\, Canada
CATEGORIES:Cooper's Hawk Vineyards,Winery Events
ATTACH;FMTTYPE=image/jpeg:https://epicwineries.com/wp-content/uploads/2024/10/Halloween-Hallows.jpg
END:VEVENT
BEGIN:VEVENT
DTSTART;TZID=America/Detroit:20241025T180000
DTEND;TZID=America/Detroit:20241025T210000
DTSTAMP:20260422T063316
CREATED:20240518T140522Z
LAST-MODIFIED:20240518T140522Z
UID:10000112-1729879200-1729890000@epicwineries.com
SUMMARY:Beyond the Grave with Medium Bella Silva Cacilhas!
DESCRIPTION:Welcome to Beyond the Grave with Medium Bella Silva Cacilhas! \nCome join us on Fri\, Oct 25\, 2024 at 6:00 PM for an unforgettable evening at Cooper’s Hawk Vineyards. Medium Bella Silva Cacilhas will connect with spirits beyond the grave and provide messages of love and healing. \nThe evening will start at 6pm with a cash bar available. A 3-course menu will commence at 6:45pm and then get ready to laugh and be amazed as Bella dives into the spirit world in a whole new way! For this live group reading Bella blends humor with psychic and mediumship abilities for an unforgettable experience. Come for the laughs\, stay for the insights. \nSecure your tickets now for this extraordinary event online\, through our website\, see ‘purchase tickets’ below. Tickets include dinner and show Cash Bar is offered
URL:https://epicwineries.com/event/beyond-the-grave-with-medium-bella-silva-cacilhas/
LOCATION:Cooper’s Hawk Vineyards\, 1425 Iler Rd\, Harrow\, Ontario\, N0R 1G0\, Canada
CATEGORIES:Cooper's Hawk Vineyards,Winery Events
ATTACH;FMTTYPE=image/jpeg:https://epicwineries.com/wp-content/uploads/2024/05/Oct-25-Coppers-Hawk.jpg
END:VEVENT
BEGIN:VEVENT
DTSTART;TZID=America/Detroit:20241005T180000
DTEND;TZID=America/Detroit:20241005T210000
DTSTAMP:20260422T063316
CREATED:20240927T175906Z
LAST-MODIFIED:20240927T175906Z
UID:10000119-1728151200-1728162000@epicwineries.com
SUMMARY:Progressive Dinner
DESCRIPTION:Join Us for an Intimate Progressive Evening✨ \nExperience the allure of CHV like never before with our exclusive Progressive Evening. This unique culinary journey features five gourmet courses\, each meticulously paired with our award-winning wines. \nAn Evening of Elegance and Exploration \nAs you savor each course\, you’ll be guided to different picturesque locations across our stunning acreage. Each setting offers a new ambiance\, designed to enhance the flavors of the carefully curated dishes and the wines that accompany them. \nA Rare and Unforgettable Experience \nThis is not just a dinner; it’s an intimate adventure that engages all the senses. With limited availability\, this Progressive Evening is a rare opportunity to indulge in the finest that Cooper’s Hawk Vineyards has to offer. \nEvent Details:\nDate: October 5th\, 2024\nTime: 6:00 PM\nLocation: Cooper’s Hawk Vineyards\, 1425 Iler Road\, Harrow\, Ontario\nPrice: $145 plus tax (gratuity included)\nRSVP: To secure your spot\, please call us at 519-738-HAWK (4295) \nJoin us for an evening of gourmet delight\, fine wine\, and unforgettable memories. Secure your spot today for this extraordinary culinary experience.
URL:https://epicwineries.com/event/progressive-dinner/
LOCATION:Cooper’s Hawk Vineyards\, 1425 Iler Rd\, Harrow\, Ontario\, N0R 1G0\, Canada
CATEGORIES:Cooper's Hawk Vineyards,Winery Events
ATTACH;FMTTYPE=image/jpeg:https://epicwineries.com/wp-content/uploads/2024/09/progressive-dinner.jpg
END:VEVENT
BEGIN:VEVENT
DTSTART;VALUE=DATE:20240726
DTEND;VALUE=DATE:20240727
DTSTAMP:20260422T063316
CREATED:20240613T150724Z
LAST-MODIFIED:20240613T150724Z
UID:10000113-1721952000-1722038399@epicwineries.com
SUMMARY:Enchanting Evening with Medium Bella Silva Cacilhas
DESCRIPTION:Join us for an enchanting evening with Medium Bella Silva Cacilhas as she connects with the spirit world and shares messages from beyond. This in-person event will take place on Friday July 26th 2024 at CHV! \nSecure your tickets now for this extraordinary event by calling us at 519-738-4295! \nPriced at $50.00+Tax per person\, each ticket includes a delectable small snack paired with a delightful sample of CHV wine!
URL:https://epicwineries.com/event/enchanting-evening-with-medium-bella-silva-cacilhas/
LOCATION:Cooper’s Hawk Vineyards\, 1425 Iler Rd\, Harrow\, Ontario\, N0R 1G0\, Canada
CATEGORIES:Cooper's Hawk Vineyards,Winery Events
ATTACH;FMTTYPE=image/jpeg:https://epicwineries.com/wp-content/uploads/2024/06/July-26-Instagram-Post.jpg
END:VEVENT
BEGIN:VEVENT
DTSTART;VALUE=DATE:20240719
DTEND;VALUE=DATE:20240721
DTSTAMP:20260422T063316
CREATED:20240613T151005Z
LAST-MODIFIED:20240613T151005Z
UID:10000114-1721347200-1721519999@epicwineries.com
SUMMARY:Fearless Fox Productions Presents: Summer of Love
DESCRIPTION:This event is brought to you by Fearless Fox Productions & CHV on Friday\, July 19th & Saturday\, July 20th. \nA percentage of proceeds to be donated to Hospice in Leamington. \nThis performance is geared towards ALL AGES featuring songs from a variety of your favourite broadway shows. Food and drinks (both alcoholic & non-alcoholic) will be available for purchase offered by CHV. \nThe performance is to take place outside on the bandstand at CHV. Cocktails start at 6:30PM and the Cabaret Performance begins at 7:30PM. Please bring a blanket or a lawn chair. \nJoin us in watching the sunset over the vineyard!
URL:https://epicwineries.com/event/fearless-fox-productions-presents-summer-of-love/
LOCATION:Cooper’s Hawk Vineyards\, 1425 Iler Rd\, Harrow\, Ontario\, N0R 1G0\, Canada
CATEGORIES:Cooper's Hawk Vineyards,Winery Events
ATTACH;FMTTYPE=image/jpeg:https://epicwineries.com/wp-content/uploads/2024/06/summer-oflove.jpg
END:VEVENT
BEGIN:VEVENT
DTSTART;TZID=America/Detroit:20240706T113000
DTEND;TZID=America/Detroit:20240706T170000
DTSTAMP:20260422T063316
CREATED:20240518T140402Z
LAST-MODIFIED:20240518T140402Z
UID:10000111-1720265400-1720285200@epicwineries.com
SUMMARY:Rosé All Day Party
DESCRIPTION:Get ready to paint the town pink at our dazzling Rosé All Day Party!\nOn July 6th\, from 11:30AM-5:00PM\,  join us for a day filled with glitz\, glamour\, and of course\, fabulous CHV Rosé wine. \nEvent Highlights:\nWear Pink & Win: Show off your rosy spirit by wearing pink attire and receive a ballot for a chance to win an exquisite gift basket! \nGroove to Disco Beats: Dance the day away as we play the hottest disco tracks\, setting the perfect vibe for a summer celebration. \nA Hole Lotta’Donuts: Indulge your sweet tooth with delicious specialty donuts from ‘A Hole Lotta’Donuts’\, available for purchase during the event.
URL:https://epicwineries.com/event/rose-all-day-party/
LOCATION:Cooper’s Hawk Vineyards\, 1425 Iler Rd\, Harrow\, Ontario\, N0R 1G0\, Canada
CATEGORIES:Cooper's Hawk Vineyards,Winery Events
ATTACH;FMTTYPE=image/jpeg:https://epicwineries.com/wp-content/uploads/2024/05/Rose-All-Day.jpg
END:VEVENT
BEGIN:VEVENT
DTSTART;TZID=America/Detroit:20240615T120000
DTEND;TZID=America/Detroit:20240615T140000
DTSTAMP:20260422T063316
CREATED:20240508T151944Z
LAST-MODIFIED:20240508T152047Z
UID:10000110-1718452800-1718460000@epicwineries.com
SUMMARY:Tasting Table Series - "The Baconator"
DESCRIPTION:Prepare your taste buds for a culinary adventure like no other!  \nThis Father’s Day weekend\, join us for a mouthwatering experience at our exclusive Tasting Table Series\, ‘The Baconator’\, featuring Master Taster\, Barb Dejonge.  \nIndulge in the savory delight of bacon prepared in four delectable ways\, perfectly paired with a curated selection of CHV wines.   \nWhether you’re a bacon connoisseur or simply looking to treat Dad to a memorable experience\, ‘The Baconator’ promises an unforgettable journey through flavor and sophistication.  \nEvent Details:\nDate: June 15th\, 12:00 PM\nPrice: $55 per person (plus tax)\nLocation: Cooper’s Hawk Vineyards/1425 Iler Rd.  \nTickets
URL:https://epicwineries.com/event/tasting-table-series-the-baconator/
LOCATION:Cooper’s Hawk Vineyards\, 1425 Iler Rd\, Harrow\, Ontario\, N0R 1G0\, Canada
CATEGORIES:Cooper's Hawk Vineyards,Winery Events
ATTACH;FMTTYPE=image/jpeg:https://epicwineries.com/wp-content/uploads/2024/05/tasting-table.jpg
END:VEVENT
BEGIN:VEVENT
DTSTART;TZID=America/Detroit:20240413T120000
DTEND;TZID=America/Detroit:20240413T140000
DTSTAMP:20260422T063316
CREATED:20240312T144545Z
LAST-MODIFIED:20240312T144545Z
UID:10000106-1713009600-1713016800@epicwineries.com
SUMMARY:Junk Food & Wine Pairing
DESCRIPTION:The Tasting Table Presents… Junk Food & Wine Pairing featuring Bob Dejonge. \nDiscover how the bold flavours of your favorite guilty pleasures can complement and elevate the nuances of our finest CHV wines.
URL:https://epicwineries.com/event/junk-food-wine-pairing/
LOCATION:Cooper’s Hawk Vineyards\, 1425 Iler Rd\, Harrow\, Ontario\, N0R 1G0\, Canada
CATEGORIES:Cooper's Hawk Vineyards,Winery Events
ATTACH;FMTTYPE=image/jpeg:https://epicwineries.com/wp-content/uploads/2024/03/The-Tasting-Table-Presents.jpg
END:VEVENT
BEGIN:VEVENT
DTSTART;TZID=America/Detroit:20240408T130000
DTEND;TZID=America/Detroit:20240408T160000
DTSTAMP:20260422T063317
CREATED:20240214T173541Z
LAST-MODIFIED:20240311T170414Z
UID:10000104-1712581200-1712592000@epicwineries.com
SUMMARY:Flash Opening Soar Into The Eclipse
DESCRIPTION:Witness the magic of a solar eclipse amidst the serene beauty of our vineyard. \nThe Vines Restaurant will be open from 12-5pm for anyone who’d like a bite to eat.
URL:https://epicwineries.com/event/flash-opening-soar-into-the-eclipse/
LOCATION:Cooper’s Hawk Vineyards\, 1425 Iler Rd\, Harrow\, Ontario\, N0R 1G0\, Canada
CATEGORIES:Cooper's Hawk Vineyards,Winery Events
ATTACH;FMTTYPE=image/jpeg:https://epicwineries.com/wp-content/uploads/2024/02/Flash-Opening.jpg
END:VEVENT
BEGIN:VEVENT
DTSTART;TZID=America/Detroit:20240224T190000
DTEND;TZID=America/Detroit:20240224T210000
DTSTAMP:20260422T063317
CREATED:20240104T202725Z
LAST-MODIFIED:20240104T202725Z
UID:10000091-1708801200-1708808400@epicwineries.com
SUMMARY:Hello from the Other Side with Medium Bella Silva Cacilhas!
DESCRIPTION:Embark on a captivating journey into the spiritual realm with Medium Bella Silva Cacilhas at CHV on February 24th\, from 7-9PM. Join us for an enlightening evening of connections and wine!  \nSecure your tickets now for this extraordinary event by reaching out to us at 519-738-4295! Priced at $45.00+Tax per person\, each ticket includes a delectable small snack paired with a delightful sampling of our North Block Sparkling. \nWe hope to see you there!
URL:https://epicwineries.com/event/hello-from-the-other-side-with-medium-bella-silva-cacilhas/
LOCATION:Cooper’s Hawk Vineyards\, 1425 Iler Rd\, Harrow\, Ontario\, N0R 1G0\, Canada
CATEGORIES:Cooper's Hawk Vineyards,Winery Events
ATTACH;FMTTYPE=image/jpeg:https://epicwineries.com/wp-content/uploads/2024/01/bella.jpg
END:VEVENT
BEGIN:VEVENT
DTSTART;TZID=America/Detroit:20240217T180000
DTEND;TZID=America/Detroit:20240217T220000
DTSTAMP:20260422T063317
CREATED:20240117T201439Z
LAST-MODIFIED:20240117T201439Z
UID:10000093-1708192800-1708207200@epicwineries.com
SUMMARY:EPIC Winemakers Dinner – Cooper's Hawk Vineyards
DESCRIPTION:Come to the county for an elegant evening affair. Join us for our annual Winemakers Dinner Series. Three gourmet courses expertly paired with our award winning wines presented by the winemakers themselves. Don’t miss this exclusive event. We can’t wait to wait on you!
URL:https://epicwineries.com/event/epic-winemakers-dinner-coopers-hawk-vineyards/
LOCATION:Cooper’s Hawk Vineyards\, 1425 Iler Rd\, Harrow\, Ontario\, N0R 1G0\, Canada
CATEGORIES:Cooper's Hawk Vineyards,Winery Events
END:VEVENT
BEGIN:VEVENT
DTSTART;TZID=America/Detroit:20240127T120000
DTEND;TZID=America/Detroit:20240127T160000
DTSTAMP:20260422T063317
CREATED:20240104T202313Z
LAST-MODIFIED:20240104T202348Z
UID:10000090-1706356800-1706371200@epicwineries.com
SUMMARY:Stems & Spoons at Cooper's Hawk Vineyards
DESCRIPTION:Indulge in a perfect pairing of wine and soup at our event on January 27th\, from 12-4 PM. For $20 plus tax\, enjoy two soup choices with expertly selected wine pairings. A portion of proceeds benefits the Windsor-Essex Children’s Aid Foundation. \nTo get tickets please call us at 519-738-HAWK(4295) or walk-ins welcome! Sip\, savour\, and make a difference. Cheers to Stems\, Spoons\, and community support!
URL:https://epicwineries.com/event/stems-spoons/
LOCATION:Cooper’s Hawk Vineyards\, 1425 Iler Rd\, Harrow\, Ontario\, N0R 1G0\, Canada
CATEGORIES:Cooper's Hawk Vineyards,Winery Events
ATTACH;FMTTYPE=image/jpeg:https://epicwineries.com/wp-content/uploads/2024/01/coopers-vineyard.jpg
END:VEVENT
BEGIN:VEVENT
DTSTART;TZID=America/Detroit:20230813T130000
DTEND;TZID=America/Detroit:20230813T170000
DTSTAMP:20260422T063317
CREATED:20230713T174418Z
LAST-MODIFIED:20230713T174512Z
UID:10000052-1691931600-1691946000@epicwineries.com
SUMMARY:Charcuterie Master Class
DESCRIPTION:Join us for our Master Class where you will receive:\n– A beautiful hand-crafted black walnut charcuterie board\n– A flight of 4 Cooper’s Hawk wines\n– All food required to build your board\n– Step by step instructions\n– Assembly & presentation tips & hacks \nRegister by email at mhawk@cogeco.ca.
URL:https://epicwineries.com/event/charcuterie-master-class/
LOCATION:Cooper’s Hawk Vineyards\, 1425 Iler Rd\, Harrow\, Ontario\, N0R 1G0\, Canada
CATEGORIES:Cooper's Hawk Vineyards,Winery Events
ATTACH;FMTTYPE=image/jpeg:https://epicwineries.com/wp-content/uploads/2023/07/Charcuterie-Masterclass.jpg
END:VEVENT
END:VCALENDAR