BEGIN:VCALENDAR
VERSION:2.0
PRODID:-//EPIC Wineries - ECPv6.15.18//NONSGML v1.0//EN
CALSCALE:GREGORIAN
METHOD:PUBLISH
X-WR-CALNAME:EPIC Wineries
X-ORIGINAL-URL:https://epicwineries.com
X-WR-CALDESC:Events for EPIC Wineries
REFRESH-INTERVAL;VALUE=DURATION:PT1H
X-Robots-Tag:noindex
X-PUBLISHED-TTL:PT1H
BEGIN:VTIMEZONE
TZID:America/Detroit
BEGIN:DAYLIGHT
TZOFFSETFROM:-0500
TZOFFSETTO:-0400
TZNAME:EDT
DTSTART:20230312T070000
END:DAYLIGHT
BEGIN:STANDARD
TZOFFSETFROM:-0400
TZOFFSETTO:-0500
TZNAME:EST
DTSTART:20231105T060000
END:STANDARD
BEGIN:DAYLIGHT
TZOFFSETFROM:-0500
TZOFFSETTO:-0400
TZNAME:EDT
DTSTART:20240310T070000
END:DAYLIGHT
BEGIN:STANDARD
TZOFFSETFROM:-0400
TZOFFSETTO:-0500
TZNAME:EST
DTSTART:20241103T060000
END:STANDARD
BEGIN:DAYLIGHT
TZOFFSETFROM:-0500
TZOFFSETTO:-0400
TZNAME:EDT
DTSTART:20250309T070000
END:DAYLIGHT
BEGIN:STANDARD
TZOFFSETFROM:-0400
TZOFFSETTO:-0500
TZNAME:EST
DTSTART:20251102T060000
END:STANDARD
END:VTIMEZONE
BEGIN:VEVENT
DTSTART;TZID=America/Detroit:20240127T180000
DTEND;TZID=America/Detroit:20240316T220000
DTSTAMP:20260420T080836
CREATED:20230309T232307Z
LAST-MODIFIED:20240214T173723Z
UID:10000006-1706378400-1710626400@epicwineries.com
SUMMARY:EPIC Winemakers Dinner Series
DESCRIPTION:[vc_row][vc_column][vc_column_text]Sit back\, sip and savour as three of our EPIC winemakers guide your tasting experience of each wine alongside perfectly paired dishes prepared by our culinary team. \nChoose from 3 dates!\n[/vc_column_text][dfd_spacer screen_wide_spacer_size=”10″ screen_normal_resolution=”1024″ screen_tablet_resolution=”800″ screen_mobile_resolution=”480″][vc_row_inner][vc_column_inner width=”1/3″][vc_column_text] \nPelee Island Winery – January 27th\, 2024 \n[/vc_column_text][dfd_button button_text=”Sold Out” main_style=”style-2″ buttom_link_src=”url:https%3A%2F%2Fepicwineries.com%2Fproduct%2Fepic-winemakers-dinner-pelee-island-winery-january-27-2024%2F|target:_blank” box_shadow=”box_shadow_enable:disable|shadow_horizontal:0|shadow_vertical:15|shadow_blur:50|shadow_spread:0|box_shadow_color:rgba(0%2C0%2C0%2C0.35)” hover_box_shadow=”box_shadow_enable:disable|shadow_horizontal:0|shadow_vertical:15|shadow_blur:50|shadow_spread:0|box_shadow_color:rgba(0%2C0%2C0%2C0.35)”][dfd_spacer screen_wide_spacer_size=”25″ screen_normal_resolution=”1024″ screen_tablet_resolution=”800″ screen_mobile_resolution=”480″][/vc_column_inner][vc_column_inner width=”1/3″][vc_column_text] \nCooper’s Hawk Vineyards – February 17th\, 2024 \n[/vc_column_text][dfd_button button_text=”Sold Out” main_style=”style-2″ buttom_link_src=”url:https%3A%2F%2Fepicwineries.com%2Fproduct%2Fepic-winemakers-dinner-coopers-hawk-vineyard-february-17-2024%2F|target:_blank” box_shadow=”box_shadow_enable:disable|shadow_horizontal:0|shadow_vertical:15|shadow_blur:50|shadow_spread:0|box_shadow_color:rgba(0%2C0%2C0%2C0.35)” hover_box_shadow=”box_shadow_enable:disable|shadow_horizontal:0|shadow_vertical:15|shadow_blur:50|shadow_spread:0|box_shadow_color:rgba(0%2C0%2C0%2C0.35)” tutorials=””][dfd_spacer screen_wide_spacer_size=”25″ screen_normal_resolution=”1024″ screen_tablet_resolution=”800″ screen_mobile_resolution=”480″][/vc_column_inner][vc_column_inner width=”1/3″][vc_column_text] \nOxley Estate Winery – March 16th\, 2024 \n[/vc_column_text][dfd_button button_text=”Purchase Tickets” main_style=”style-2″ buttom_link_src=”url:https%3A%2F%2Fepicwineries.com%2Fproduct%2Fepic-winemakers-dinner-oxley-estate-winery-march-16-2024%2F|target:_blank” box_shadow=”box_shadow_enable:disable|shadow_horizontal:0|shadow_vertical:15|shadow_blur:50|shadow_spread:0|box_shadow_color:rgba(0%2C0%2C0%2C0.35)” hover_box_shadow=”box_shadow_enable:disable|shadow_horizontal:0|shadow_vertical:15|shadow_blur:50|shadow_spread:0|box_shadow_color:rgba(0%2C0%2C0%2C0.35)”][/vc_column_inner][/vc_row_inner][dfd_spacer screen_wide_spacer_size=”25″ screen_normal_resolution=”1024″ screen_tablet_resolution=”800″ screen_mobile_resolution=”480″][vc_column_text]\nCome to the county for an elegant evening affair. Join us for our annual Winemakers Dinner Series. Three gourmet courses expertly paired with our award winning wines presented by the winemakers themselves. Don’t miss this exclusive event. We can’t wait to wait on you! \n$100/per person\n[/vc_column_text][/vc_column][/vc_row]
URL:https://epicwineries.com/event/epic-winemakers-dinner-series/
LOCATION:EPIC Wineries\, Canada
CATEGORIES:EPIC Signature
ATTACH;FMTTYPE=image/jpeg:https://epicwineries.com/wp-content/uploads/2023/03/oxley-epic-dinner.jpg
END:VEVENT
END:VCALENDAR