BEGIN:VCALENDAR
VERSION:2.0
PRODID:-//EPIC Wineries - ECPv6.15.18//NONSGML v1.0//EN
CALSCALE:GREGORIAN
METHOD:PUBLISH
X-WR-CALNAME:EPIC Wineries
X-ORIGINAL-URL:https://epicwineries.com
X-WR-CALDESC:Events for EPIC Wineries
REFRESH-INTERVAL;VALUE=DURATION:PT1H
X-Robots-Tag:noindex
X-PUBLISHED-TTL:PT1H
BEGIN:VTIMEZONE
TZID:America/Detroit
BEGIN:DAYLIGHT
TZOFFSETFROM:-0500
TZOFFSETTO:-0400
TZNAME:EDT
DTSTART:20220313T070000
END:DAYLIGHT
BEGIN:STANDARD
TZOFFSETFROM:-0400
TZOFFSETTO:-0500
TZNAME:EST
DTSTART:20221106T060000
END:STANDARD
BEGIN:DAYLIGHT
TZOFFSETFROM:-0500
TZOFFSETTO:-0400
TZNAME:EDT
DTSTART:20230312T070000
END:DAYLIGHT
BEGIN:STANDARD
TZOFFSETFROM:-0400
TZOFFSETTO:-0500
TZNAME:EST
DTSTART:20231105T060000
END:STANDARD
BEGIN:DAYLIGHT
TZOFFSETFROM:-0500
TZOFFSETTO:-0400
TZNAME:EDT
DTSTART:20240310T070000
END:DAYLIGHT
BEGIN:STANDARD
TZOFFSETFROM:-0400
TZOFFSETTO:-0500
TZNAME:EST
DTSTART:20241103T060000
END:STANDARD
END:VTIMEZONE
BEGIN:VEVENT
DTSTART;TZID=America/Detroit:20231125T110000
DTEND;TZID=America/Detroit:20231126T170000
DTSTAMP:20260424T181018
CREATED:20230309T182937Z
LAST-MODIFIED:20231127T154232Z
UID:10000004-1700910000-1701018000@epicwineries.com
SUMMARY:EPIC Taste of the Season
DESCRIPTION:[vc_row][vc_column][vc_column_text]Enjoy the spirit of the season in EPIC wine country! Discover unique gifts\, delicious local wines\, and cheerful festivities at each of our participating wineries! \nWineries are collecting canned goods and donations for local food banks\n[/vc_column_text][dfd_spacer screen_wide_spacer_size=”20″ screen_normal_resolution=”1024″ screen_tablet_resolution=”800″ screen_mobile_resolution=”480″][/vc_column][/vc_row][vc_row force_equal_height_columns=”main_row”][vc_column][vc_row_inner][vc_column_inner][vc_column_text] \nParticipating Wineries\n[/vc_column_text][/vc_column_inner][/vc_row_inner][/vc_column][/vc_row][vc_row][vc_column][dfd_spacer screen_wide_spacer_size=”20″ screen_normal_resolution=”1024″ screen_tablet_resolution=”800″ screen_mobile_resolution=”480″][/vc_column][/vc_row][vc_row force_equal_height_columns=”main_row”][vc_column][vc_row_inner][vc_column_inner width=”2/12″][dfd_single_image image=”24144″][/vc_column_inner][vc_column_inner width=”2/3″][vc_column_text]Choice of 5 oz Chardonnay OR Barrelmen’s Blend at the reduced price of $5\, with the donation to the food bank. Live music\, festive games\, food features and holiday merchandise for purchase.[/vc_column_text][/vc_column_inner][vc_column_inner width=”2/12″][vc_column_text]12-4pm[/vc_column_text][/vc_column_inner][/vc_row_inner][/vc_column][/vc_row][vc_row force_equal_height_columns=”main_row”][vc_column][vc_row_inner][vc_column_inner width=”2/12″][dfd_single_image image=”24133″][/vc_column_inner][vc_column_inner width=”2/3″][vc_column_text]Live entertainment by Justin Latam from 1-4. Ugly Sweater competition that the customers will be able to vote on the best Ugly Sweater! Complimentary holiday cocktail. Gift baskets and wine specials for the Holidays![/vc_column_text][/vc_column_inner][vc_column_inner width=”2/12″][vc_column_text]12-5pm[/vc_column_text][/vc_column_inner][/vc_row_inner][/vc_column][/vc_row][vc_row force_equal_height_columns=”main_row”][vc_column][vc_row_inner][vc_column_inner width=”2/12″][dfd_single_image image=”24142″][/vc_column_inner][vc_column_inner width=”2/3″][vc_column_text]Hosting various vendors. Selling “Grown up” Hot Chocolate” and mulled wine. [/vc_column_text][/vc_column_inner][vc_column_inner width=”2/12″][vc_column_text]12-4pm[/vc_column_text][/vc_column_inner][/vc_row_inner][/vc_column][/vc_row][vc_row force_equal_height_columns=”main_row”][vc_column][vc_row_inner][vc_column_inner width=”2/12″][dfd_single_image image=”24146″][/vc_column_inner][vc_column_inner width=”2/3″][vc_column_text]A complimentary wine cocktail and artisanal cheese pairing. Discover the perfect pairing for your festive celebrations![/vc_column_text][/vc_column_inner][vc_column_inner width=”2/12″][vc_column_text]12-4pm[/vc_column_text][/vc_column_inner][/vc_row_inner][/vc_column][/vc_row][vc_row force_equal_height_columns=”main_row”][vc_column][vc_row_inner][vc_column_inner width=”2/12″][dfd_single_image image=”24147″][/vc_column_inner][vc_column_inner width=”2/3″][vc_column_text]Complimentary sampling of 2 of our new release wines. [/vc_column_text][/vc_column_inner][vc_column_inner width=”2/12″][vc_column_text]12-5pm[/vc_column_text][/vc_column_inner][/vc_row_inner][/vc_column][/vc_row][vc_row force_equal_height_columns=”main_row”][vc_column][vc_row_inner][vc_column_inner width=”2/12″][dfd_single_image image=”24149″][/vc_column_inner][vc_column_inner width=”2/3″][vc_column_text]Live music\, holiday snacks and spiced warm wine beverages. Complimentary samples of Warm Wowza\, Hot Ripper and Warm Apple Cider.[/vc_column_text][/vc_column_inner][vc_column_inner width=”2/12″][vc_column_text]12-4pm[/vc_column_text][/vc_column_inner][/vc_row_inner][/vc_column][/vc_row][vc_row force_equal_height_columns=”main_row”][vc_column][vc_row_inner][vc_column_inner width=”2/12″][dfd_single_image image=”24150″][/vc_column_inner][vc_column_inner width=”2/3″][vc_column_text]November 25 from 12-3pm\, receive a welcome holiday cocktail. This can be enjoyed inside of our showroom or by our outdoor fires. On November 26 we will have Santa and Mrs. Claus visiting our winery from 12-3pm for photos and greetings.[/vc_column_text][/vc_column_inner][vc_column_inner width=”2/12″][vc_column_text]12-3pm[/vc_column_text][/vc_column_inner][/vc_row_inner][/vc_column][/vc_row][vc_row force_equal_height_columns=”main_row”][vc_column][vc_row_inner][vc_column_inner width=”2/12″][dfd_single_image image=”24151″][/vc_column_inner][vc_column_inner width=”2/3″][vc_column_text]Pelee will be offering an Ice Wine Royal. They are also offering a chance to win 1 of their Advent Calendars by joining their newsletter and making a donation to the food bank.[/vc_column_text][/vc_column_inner][vc_column_inner width=”2/12″][vc_column_text]12-4pm[/vc_column_text][/vc_column_inner][/vc_row_inner][/vc_column][/vc_row][vc_row force_equal_height_columns=”main_row”][vc_column][vc_row_inner][vc_column_inner width=”2/12″][dfd_single_image image=”24152″][/vc_column_inner][vc_column_inner width=”2/3″][vc_column_text]Homemade Soup and bread with Mulled Wine\, with a donation to the food bank.\nMake your own tree ornament in our Festive Erie Room.[/vc_column_text][/vc_column_inner][vc_column_inner width=”2/12″][vc_column_text]11-4pm[/vc_column_text][/vc_column_inner][/vc_row_inner][/vc_column][/vc_row][vc_row force_equal_height_columns=”main_row”][vc_column][vc_row_inner][vc_column_inner width=”2/12″][dfd_single_image image=”24153″][/vc_column_inner][vc_column_inner width=”2/3″][vc_column_text]An assortment of fresh green holiday arrangements for sale in our retail\, along with many other holiday gift ideas. Enjoy a festive beverage and dessert while listening to holiday live music 1-4pm with David Labute Saturday & Max Marshall Sunday [/vc_column_text][/vc_column_inner][vc_column_inner width=”2/12″][vc_column_text]11-5pm[/vc_column_text][/vc_column_inner][/vc_row_inner][/vc_column][/vc_row][vc_row force_equal_height_columns=”main_row”][vc_column][vc_row_inner][vc_column_inner width=”2/12″][dfd_single_image image=”24155″][/vc_column_inner][vc_column_inner width=”2/3″][vc_column_text]One 2 oz wine sample from the choice of Vivace’s Local Favorite wine flight\, paired with sushi.[/vc_column_text][/vc_column_inner][vc_column_inner width=”2/12″][vc_column_text]12-5pm[/vc_column_text][/vc_column_inner][/vc_row_inner][/vc_column][/vc_row][vc_row force_equal_height_columns=”main_row”][vc_column][vc_row_inner][vc_column_inner width=”2/12″][dfd_single_image image=”24154″][/vc_column_inner][vc_column_inner width=”2/3″][/vc_column_inner][vc_column_inner width=”2/12″][vc_column_text]12-5pm[/vc_column_text][/vc_column_inner][/vc_row_inner][/vc_column][/vc_row]
URL:https://epicwineries.com/event/epic-taste-of-the-season/
LOCATION:EPIC Wineries\, Canada
CATEGORIES:EPIC Signature
ATTACH;FMTTYPE=image/jpeg:https://epicwineries.com/wp-content/uploads/2023/03/event-epic-taste-01.jpg
END:VEVENT
END:VCALENDAR